BEGIN:VCALENDAR
VERSION:2.0
PRODID:icalendar-ruby
CALSCALE:GREGORIAN
METHOD:PUBLISH
BEGIN:VEVENT
DTSTAMP:20260424T084303Z
UID:60-660403@bmumc.net
DTSTART:20260427T193000Z
DTEND:20260427T203000Z
CLASS:PUBLIC
CREATED:20260413T125853
DESCRIPTION:
LAST-MODIFIED:20260413T125853
LOCATION:Mary Lou Wilkinson will be hosting at her home
SUMMARY:United Women in Faith
URL;VALUE=URI:https://bmumc.net/events/united-women-in-faith/2026-04-27
END:VEVENT
END:VCALENDAR
