BEGIN:VCALENDAR
VERSION:2.0
PRODID:icalendar-ruby
CALSCALE:GREGORIAN
METHOD:PUBLISH
BEGIN:VEVENT
DTSTAMP:20260425T005226Z
UID:55-709902@bmumc.net
DTSTART:20261105T233000Z
DTEND:20261106T003000Z
CLASS:PUBLIC
CREATED:20260424T194942
DESCRIPTION:
LAST-MODIFIED:20260424T194942
LOCATION:Joy Classroom
SUMMARY:Prayer Shawl Meeting
URL;VALUE=URI:https://bmumc.net/events/prayer-shawl-meeting--55/2026-11-05
END:VEVENT
END:VCALENDAR
