BEGIN:VCALENDAR
VERSION:2.0
PRODID:icalendar-ruby
CALSCALE:GREGORIAN
METHOD:PUBLISH
BEGIN:VEVENT
DTSTAMP:20260424T230544Z
UID:55-709175@bmumc.net
DTSTART:20261029T223000Z
DTEND:20261029T233000Z
CLASS:PUBLIC
CREATED:20260424T170151
DESCRIPTION:
LAST-MODIFIED:20260424T170151
LOCATION:Joy Classroom
SUMMARY:Prayer Shawl Meeting
URL;VALUE=URI:https://bmumc.net/events/prayer-shawl-meeting--55/2026-10-29
END:VEVENT
END:VCALENDAR
