BEGIN:VCALENDAR
VERSION:2.0
PRODID:icalendar-ruby
CALSCALE:GREGORIAN
METHOD:PUBLISH
BEGIN:VEVENT
DTSTAMP:20260424T170659Z
UID:55-707721@bmumc.net
DTSTART:20261008T223000Z
DTEND:20261008T233000Z
CLASS:PUBLIC
CREATED:20260424T112812
DESCRIPTION:
LAST-MODIFIED:20260424T112812
LOCATION:Joy Classroom
SUMMARY:Prayer Shawl Meeting
URL;VALUE=URI:https://bmumc.net/events/prayer-shawl-meeting--55/2026-10-08
END:VEVENT
END:VCALENDAR
