BEGIN:VCALENDAR
VERSION:2.0
PRODID:icalendar-ruby
CALSCALE:GREGORIAN
METHOD:PUBLISH
BEGIN:VEVENT
DTSTAMP:20260424T130019Z
UID:55-706994@bmumc.net
DTSTART:20260924T223000Z
DTEND:20260924T233000Z
CLASS:PUBLIC
CREATED:20260424T083527
DESCRIPTION:
LAST-MODIFIED:20260424T083527
LOCATION:Joy Classroom
SUMMARY:Prayer Shawl Meeting
URL;VALUE=URI:https://bmumc.net/events/prayer-shawl-meeting--55/2026-09-24
END:VEVENT
END:VCALENDAR
