BEGIN:VCALENDAR
VERSION:2.0
PRODID:icalendar-ruby
CALSCALE:GREGORIAN
METHOD:PUBLISH
BEGIN:VEVENT
DTSTAMP:20260424T013806Z
UID:55-705538@bmumc.net
DTSTART:20260813T223000Z
DTEND:20260813T233000Z
CLASS:PUBLIC
CREATED:20260423T201249
DESCRIPTION:
LAST-MODIFIED:20260423T201249
LOCATION:Joy Classroom
SUMMARY:Prayer Shawl Meeting
URL;VALUE=URI:https://bmumc.net/events/prayer-shawl-meeting--55/2026-08-13
END:VEVENT
END:VCALENDAR
