BEGIN:VCALENDAR
VERSION:2.0
PRODID:icalendar-ruby
CALSCALE:GREGORIAN
METHOD:PUBLISH
BEGIN:VEVENT
DTSTAMP:20260423T220700Z
UID:55-704813@bmumc.net
DTSTART:20260806T223000Z
DTEND:20260806T233000Z
CLASS:PUBLIC
CREATED:20260423T171935
DESCRIPTION:
LAST-MODIFIED:20260423T171935
LOCATION:Joy Classroom
SUMMARY:Prayer Shawl Meeting
URL;VALUE=URI:https://bmumc.net/events/prayer-shawl-meeting--55/2026-08-06
END:VEVENT
END:VCALENDAR
