BEGIN:VCALENDAR
VERSION:2.0
PRODID:icalendar-ruby
CALSCALE:GREGORIAN
METHOD:PUBLISH
BEGIN:VEVENT
DTSTAMP:20260423T162053Z
UID:55-703368@bmumc.net
DTSTART:20260730T223000Z
DTEND:20260730T233000Z
CLASS:PUBLIC
CREATED:20260423T112805
DESCRIPTION:
LAST-MODIFIED:20260423T112805
LOCATION:Joy Classroom
SUMMARY:Prayer Shawl Meeting
URL;VALUE=URI:https://bmumc.net/events/prayer-shawl-meeting--55/2026-07-30
END:VEVENT
END:VCALENDAR
