BEGIN:VCALENDAR
VERSION:2.0
PRODID:icalendar-ruby
CALSCALE:GREGORIAN
METHOD:PUBLISH
BEGIN:VEVENT
DTSTAMP:20260423T105733Z
UID:55-701923@bmumc.net
DTSTART:20260723T223000Z
DTEND:20260723T233000Z
CLASS:PUBLIC
CREATED:20260422T230523
DESCRIPTION:
LAST-MODIFIED:20260422T230523
LOCATION:Joy Classroom
SUMMARY:Prayer Shawl Meeting
URL;VALUE=URI:https://bmumc.net/events/prayer-shawl-meeting--55/2026-07-23
END:VEVENT
END:VCALENDAR
