BEGIN:VCALENDAR
VERSION:2.0
PRODID:icalendar-ruby
CALSCALE:GREGORIAN
METHOD:PUBLISH
BEGIN:VEVENT
DTSTAMP:20260422T182318Z
UID:55-699034@bmumc.net
DTSTART:20260702T223000Z
DTEND:20260702T233000Z
CLASS:PUBLIC
CREATED:20260422T112932
DESCRIPTION:
LAST-MODIFIED:20260422T112932
LOCATION:Joy Classroom
SUMMARY:Prayer Shawl Meeting
URL;VALUE=URI:https://bmumc.net/events/prayer-shawl-meeting--55/2026-07-02
END:VEVENT
END:VCALENDAR
