BEGIN:VCALENDAR
VERSION:2.0
PRODID:icalendar-ruby
CALSCALE:GREGORIAN
METHOD:PUBLISH
BEGIN:VEVENT
DTSTAMP:20260422T125412Z
UID:55-698313@bmumc.net
DTSTART:20260625T223000Z
DTEND:20260625T233000Z
CLASS:PUBLIC
CREATED:20260422T083419
DESCRIPTION:
LAST-MODIFIED:20260422T083419
LOCATION:Joy Classroom
SUMMARY:Prayer Shawl Meeting
URL;VALUE=URI:https://bmumc.net/events/prayer-shawl-meeting--55/2026-06-25
END:VEVENT
END:VCALENDAR
