BEGIN:VCALENDAR
VERSION:2.0
PRODID:icalendar-ruby
CALSCALE:GREGORIAN
METHOD:PUBLISH
BEGIN:VEVENT
DTSTAMP:20260420T090657Z
UID:55-688961@bmumc.net
DTSTART:20260618T223000Z
DTEND:20260618T233000Z
CLASS:PUBLIC
CREATED:20260420T033841
DESCRIPTION:
LAST-MODIFIED:20260420T033841
LOCATION:Joy Classroom
SUMMARY:Prayer Shawl Meeting
URL;VALUE=URI:https://bmumc.net/events/prayer-shawl-meeting--55/2026-06-18
END:VEVENT
END:VCALENDAR
