BEGIN:VCALENDAR
VERSION:2.0
PRODID:icalendar-ruby
CALSCALE:GREGORIAN
METHOD:PUBLISH
BEGIN:VEVENT
DTSTAMP:20260420T031634Z
UID:55-687524@bmumc.net
DTSTART:20260611T223000Z
DTEND:20260611T233000Z
CLASS:PUBLIC
CREATED:20260419T202403
DESCRIPTION:
LAST-MODIFIED:20260419T202403
LOCATION:Joy Classroom
SUMMARY:Prayer Shawl Meeting
URL;VALUE=URI:https://bmumc.net/events/prayer-shawl-meeting--55/2026-06-11
END:VEVENT
END:VCALENDAR
