BEGIN:VCALENDAR
VERSION:2.0
PRODID:icalendar-ruby
CALSCALE:GREGORIAN
METHOD:PUBLISH
BEGIN:VEVENT
DTSTAMP:20260419T211639Z
UID:55-686805@bmumc.net
DTSTART:20260604T223000Z
DTEND:20260604T233000Z
CLASS:PUBLIC
CREATED:20260419T164155
DESCRIPTION:
LAST-MODIFIED:20260419T164155
LOCATION:Joy Classroom
SUMMARY:Prayer Shawl Meeting
URL;VALUE=URI:https://bmumc.net/events/prayer-shawl-meeting--55/2026-06-04
END:VEVENT
END:VCALENDAR
