BEGIN:VCALENDAR
VERSION:2.0
PRODID:icalendar-ruby
CALSCALE:GREGORIAN
METHOD:PUBLISH
BEGIN:VEVENT
DTSTAMP:20260419T161138Z
UID:55-685370@bmumc.net
DTSTART:20260528T223000Z
DTEND:20260528T233000Z
CLASS:PUBLIC
CREATED:20260419T091740
DESCRIPTION:
LAST-MODIFIED:20260419T091740
LOCATION:Joy Classroom
SUMMARY:Prayer Shawl Meeting
URL;VALUE=URI:https://bmumc.net/events/prayer-shawl-meeting--55/2026-05-28
END:VEVENT
END:VCALENDAR
